{
 "currentVersion": 10.91,
 "serviceDescription": "IRENES_zonation",
 "name": "IRENES_zonation",
 "description": "",
 "extent": {
  "xmin": 446962.95000000286,
  "ymin": 6377170.000000002,
  "xmax": 739102.9500000029,
  "ymax": 6617850.000000002,
  "spatialReference": {
   "wkt": "PROJCS[\"Estonia_1997_Lambert_Conformal_Conic\",GEOGCS[\"GCS_Estonia_1997\",DATUM[\"D_Estonia_1997\",SPHEROID[\"GRS_1980\",6378137.0,298.257222101]],PRIMEM[\"Greenwich\",0.0],UNIT[\"Degree\",0.0174532925199433]],PROJECTION[\"Lambert_Conformal_Conic\"],PARAMETER[\"false_easting\",500000.0],PARAMETER[\"false_northing\",6375000.0],PARAMETER[\"central_meridian\",24.0],PARAMETER[\"standard_parallel_1\",58.0],PARAMETER[\"standard_parallel_2\",59.33333333333334],PARAMETER[\"latitude_of_origin\",57.51755393055556],UNIT[\"Meter\",1.0]]"
  }
 },
 "initialExtent": {
  "xmin": 446962.95000000286,
  "ymin": 6377170.000000002,
  "xmax": 739102.9500000029,
  "ymax": 6617850.000000002,
  "spatialReference": {
   "wkt": "PROJCS[\"Estonia_1997_Lambert_Conformal_Conic\",GEOGCS[\"GCS_Estonia_1997\",DATUM[\"D_Estonia_1997\",SPHEROID[\"GRS_1980\",6378137.0,298.257222101]],PRIMEM[\"Greenwich\",0.0],UNIT[\"Degree\",0.0174532925199433]],PROJECTION[\"Lambert_Conformal_Conic\"],PARAMETER[\"false_easting\",500000.0],PARAMETER[\"false_northing\",6375000.0],PARAMETER[\"central_meridian\",24.0],PARAMETER[\"standard_parallel_1\",58.0],PARAMETER[\"standard_parallel_2\",59.33333333333334],PARAMETER[\"latitude_of_origin\",57.51755393055556],UNIT[\"Meter\",1.0]]"
  }
 },
 "fullExtent": {
  "xmin": 446962.95000000286,
  "ymin": 6377170.000000002,
  "xmax": 739102.9500000029,
  "ymax": 6617850.000000002,
  "spatialReference": {
   "wkt": "PROJCS[\"Estonia_1997_Lambert_Conformal_Conic\",GEOGCS[\"GCS_Estonia_1997\",DATUM[\"D_Estonia_1997\",SPHEROID[\"GRS_1980\",6378137.0,298.257222101]],PRIMEM[\"Greenwich\",0.0],UNIT[\"Degree\",0.0174532925199433]],PROJECTION[\"Lambert_Conformal_Conic\"],PARAMETER[\"false_easting\",500000.0],PARAMETER[\"false_northing\",6375000.0],PARAMETER[\"central_meridian\",24.0],PARAMETER[\"standard_parallel_1\",58.0],PARAMETER[\"standard_parallel_2\",59.33333333333334],PARAMETER[\"latitude_of_origin\",57.51755393055556],UNIT[\"Meter\",1.0]]"
  }
 },
 "pixelSizeX": 10,
 "pixelSizeY": 10,
 "bandCount": 3,
 "pixelType": "U8",
 "minPixelSize": 0,
 "maxPixelSize": 0,
 "copyrightText": "",
 "serviceDataType": "esriImageServiceDataTypeRGB",
 "minValues": [],
 "maxValues": [],
 "meanValues": [],
 "stdvValues": [],
 "objectIdField": "",
 "fields": [],
 "capabilities": "Image,Metadata,Mensuration",
 "defaultMosaicMethod": "Center",
 "allowedMosaicMethods": "",
 "sortField": "",
 "sortValue": null,
 "sortAscending": true,
 "mosaicOperator": "First",
 "defaultCompressionQuality": 75,
 "defaultResamplingMethod": "Bilinear",
 "maxImageHeight": 4100,
 "maxImageWidth": 15000,
 "allowRasterFunction": true,
 "rasterFunctionInfos": [
  {
   "name": "None",
   "description": "",
   "help": ""
  }
 ],
 "rasterTypeInfos": [
  {
   "name": "Raster Dataset",
   "description": "Supports all ArcGIS Raster Datasets",
   "help": ""
  }
 ],
 "mensurationCapabilities": "Basic",
 "hasHistograms": false,
 "hasColormap": false,
 "hasRasterAttributeTable": false,
 "minScale": 0,
 "maxScale": 0,
 "exportTilesAllowed": false,
 "hasMultidimensions": false,
 "supportsStatistics": false,
 "supportsAdvancedQueries": false,
 "editFieldsInfo": null,
 "ownershipBasedAccessControlForRasters": null,
 "allowComputeTiePoints": false,
 "useStandardizedQueries": true,
 "advancedQueryCapabilities": {
  "useStandardizedQueries": true,
  "supportsStatistics": false,
  "supportsOrderBy": false,
  "supportsDistinct": false,
  "supportsPagination": false
 },
 "spatialReference": {
  "wkt": "PROJCS[\"Estonia_1997_Lambert_Conformal_Conic\",GEOGCS[\"GCS_Estonia_1997\",DATUM[\"D_Estonia_1997\",SPHEROID[\"GRS_1980\",6378137.0,298.257222101]],PRIMEM[\"Greenwich\",0.0],UNIT[\"Degree\",0.0174532925199433]],PROJECTION[\"Lambert_Conformal_Conic\"],PARAMETER[\"false_easting\",500000.0],PARAMETER[\"false_northing\",6375000.0],PARAMETER[\"central_meridian\",24.0],PARAMETER[\"standard_parallel_1\",58.0],PARAMETER[\"standard_parallel_2\",59.33333333333334],PARAMETER[\"latitude_of_origin\",57.51755393055556],UNIT[\"Meter\",1.0]]"
 }
}
